BEGIN:VCALENDAR
VERSION:2.0
PRODID:-//Alleghany Highlands Arts and Crafts Center - ECPv6.15.20//NONSGML v1.0//EN
CALSCALE:GREGORIAN
METHOD:PUBLISH
X-WR-CALNAME:Alleghany Highlands Arts and Crafts Center
X-ORIGINAL-URL:https://highlandsartsandcraft.org
X-WR-CALDESC:Events for Alleghany Highlands Arts and Crafts Center
REFRESH-INTERVAL;VALUE=DURATION:PT1H
X-Robots-Tag:noindex
X-PUBLISHED-TTL:PT1H
BEGIN:VTIMEZONE
TZID:America/New_York
BEGIN:DAYLIGHT
TZOFFSETFROM:-0500
TZOFFSETTO:-0400
TZNAME:EDT
DTSTART:20210314T070000
END:DAYLIGHT
BEGIN:STANDARD
TZOFFSETFROM:-0400
TZOFFSETTO:-0500
TZNAME:EST
DTSTART:20211107T060000
END:STANDARD
BEGIN:DAYLIGHT
TZOFFSETFROM:-0500
TZOFFSETTO:-0400
TZNAME:EDT
DTSTART:20220313T070000
END:DAYLIGHT
BEGIN:STANDARD
TZOFFSETFROM:-0400
TZOFFSETTO:-0500
TZNAME:EST
DTSTART:20221106T060000
END:STANDARD
BEGIN:DAYLIGHT
TZOFFSETFROM:-0500
TZOFFSETTO:-0400
TZNAME:EDT
DTSTART:20230312T070000
END:DAYLIGHT
BEGIN:STANDARD
TZOFFSETFROM:-0400
TZOFFSETTO:-0500
TZNAME:EST
DTSTART:20231105T060000
END:STANDARD
END:VTIMEZONE
BEGIN:VEVENT
DTSTART;TZID=America/New_York:20220907T100000
DTEND;TZID=America/New_York:20220907T110000
DTSTAMP:20260424T064408
CREATED:20220829T191850Z
LAST-MODIFIED:20220829T191850Z
UID:10013999-1662544800-1662548400@highlandsartsandcraft.org
SUMMARY:Story/Craft Hour K - 3rd Grade
DESCRIPTION:This class is for kids ages K – 3rd Grade\, and will be on Wednesday\, 10 am – 11 am. The children will discuss a story create their own craft pertaining to the story\, and sometimes there is a snack!  Kids are sure to have fun while learning with a class limit of 6 by schoolteachers Cathy Drummer & Judy Scott!  All supplies are provided.  To sign up for this $5 class\, register by clicking below on “BUY TICKETS”. *Be sure to choose the number of tickets you want to purchase.
URL:https://highlandsartsandcraft.org/event/story-craft-hour-k-3rd-grade-2/
LOCATION:Alleghany Highands Arts and Crafts Center\, 439 E Ridgeway Street\, Clifton Forge\, VA\, 24422\, United States
CATEGORIES:Art Class
ATTACH;FMTTYPE=image/jpeg:https://highlandsartsandcraft.org/wp-content/uploads/2022/02/20220208_110445.jpg
GEO:37.81551;-79.825862
X-APPLE-STRUCTURED-LOCATION;VALUE=URI;X-ADDRESS=Alleghany Highands Arts and Crafts Center 439 E Ridgeway Street Clifton Forge VA 24422 United States;X-APPLE-RADIUS=500;X-TITLE=439 E Ridgeway Street:geo:-79.825862,37.81551
END:VEVENT
BEGIN:VEVENT
DTSTART;TZID=America/New_York:20220907T113000
DTEND;TZID=America/New_York:20220907T123000
DTSTAMP:20260424T064408
CREATED:20220829T185449Z
LAST-MODIFIED:20220829T191931Z
UID:10013998-1662550200-1662553800@highlandsartsandcraft.org
SUMMARY:Story/Craft Class 4th - 7th Grade
DESCRIPTION:This class is for kids 4th – 7th Grade\, and will be on Wednesday\, 11:30 am – 12:30 pm. The children will discuss a story create their own craft pertaining to the story\, and sometimes there is a snack!  Kids are sure to have fun while learning with a class limit of 6 by schoolteachers Cathy Drummer & Judy Scott!  All supplies are provided.  To sign up for this $5 class\, register by clicking below on “BUY TICKETS”. *Be sure to choose the number of tickets you want to purchase.
URL:https://highlandsartsandcraft.org/event/story-craft-class-4th-7th-grade-2/
LOCATION:Alleghany Highands Arts and Crafts Center\, 439 E Ridgeway Street\, Clifton Forge\, VA\, 24422\, United States
CATEGORIES:Art Class
ATTACH;FMTTYPE=image/jpeg:https://highlandsartsandcraft.org/wp-content/uploads/2021/10/20210901_114645.jpg
GEO:37.81551;-79.825862
X-APPLE-STRUCTURED-LOCATION;VALUE=URI;X-ADDRESS=Alleghany Highands Arts and Crafts Center 439 E Ridgeway Street Clifton Forge VA 24422 United States;X-APPLE-RADIUS=500;X-TITLE=439 E Ridgeway Street:geo:-79.825862,37.81551
END:VEVENT
END:VCALENDAR