BEGIN:VCALENDAR
VERSION:2.0
PRODID:-//Alleghany Highlands Arts and Crafts Center - ECPv6.15.20//NONSGML v1.0//EN
CALSCALE:GREGORIAN
METHOD:PUBLISH
X-ORIGINAL-URL:https://highlandsartsandcraft.org
X-WR-CALDESC:Events for Alleghany Highlands Arts and Crafts Center
REFRESH-INTERVAL;VALUE=DURATION:PT1H
X-Robots-Tag:noindex
X-PUBLISHED-TTL:PT1H
BEGIN:VTIMEZONE
TZID:America/New_York
BEGIN:DAYLIGHT
TZOFFSETFROM:-0500
TZOFFSETTO:-0400
TZNAME:EDT
DTSTART:20210314T070000
END:DAYLIGHT
BEGIN:STANDARD
TZOFFSETFROM:-0400
TZOFFSETTO:-0500
TZNAME:EST
DTSTART:20211107T060000
END:STANDARD
BEGIN:DAYLIGHT
TZOFFSETFROM:-0500
TZOFFSETTO:-0400
TZNAME:EDT
DTSTART:20220313T070000
END:DAYLIGHT
BEGIN:STANDARD
TZOFFSETFROM:-0400
TZOFFSETTO:-0500
TZNAME:EST
DTSTART:20221106T060000
END:STANDARD
BEGIN:DAYLIGHT
TZOFFSETFROM:-0500
TZOFFSETTO:-0400
TZNAME:EDT
DTSTART:20230312T070000
END:DAYLIGHT
BEGIN:STANDARD
TZOFFSETFROM:-0400
TZOFFSETTO:-0500
TZNAME:EST
DTSTART:20231105T060000
END:STANDARD
END:VTIMEZONE
BEGIN:VEVENT
DTSTART;TZID=America/New_York:20221005T100000
DTEND;TZID=America/New_York:20221005T110000
DTSTAMP:20260424T101551
CREATED:20220901T145407Z
LAST-MODIFIED:20220901T145407Z
UID:10014024-1664964000-1664967600@highlandsartsandcraft.org
SUMMARY:Story/Craft Hour K - 3rd Grade
DESCRIPTION:This class is for kids ages K – 3rd Grade the first Wednesday of the month from 10 am – 11 am. The children will discuss a story create their own craft pertaining to the story\, and sometimes there is a snack! Kids are sure to have fun while learning with a class limit of 6 by schoolteachers Cathy Drummer & Judy Scott! All supplies are provided. To sign up for this $5 class\, register by clicking below on “BUY TICKETS”. *Be sure to choose the number of tickets you want to purchase.
URL:https://highlandsartsandcraft.org/event/story-craft-hour-k-3rd-grade-3/
LOCATION:Alleghany Highands Arts and Crafts Center\, 439 E Ridgeway Street\, Clifton Forge\, VA\, 24422\, United States
CATEGORIES:Art Class
ATTACH;FMTTYPE=image/jpeg:https://highlandsartsandcraft.org/wp-content/uploads/2022/09/20220603_110551.jpg
GEO:37.81551;-79.825862
X-APPLE-STRUCTURED-LOCATION;VALUE=URI;X-ADDRESS=Alleghany Highands Arts and Crafts Center 439 E Ridgeway Street Clifton Forge VA 24422 United States;X-APPLE-RADIUS=500;X-TITLE=439 E Ridgeway Street:geo:-79.825862,37.81551
END:VEVENT
BEGIN:VEVENT
DTSTART;TZID=America/New_York:20221008T100000
DTEND;TZID=America/New_York:20221008T120000
DTSTAMP:20260424T101551
CREATED:20220804T145742Z
LAST-MODIFIED:20220817T191826Z
UID:10013923-1665223200-1665230400@highlandsartsandcraft.org
SUMMARY:Painting on Feathers-Ronald Navroski
DESCRIPTION:This class will be on October 8th from 10 am – 12 pm.  The cost is $20 and open to students as young as 8 years old and to adults. There will be a maximum of 10 so be sure to register by October 3rd. Students will learn how to paint on feathers\, and will be taking home a feather pen. All supplies will be provided.\nRonald Navroski is a self-taught artist who began his career in oil. Navroski began to be more passionate about choosing a medium with meaning.  He chose to paint on feathers.  Feather painting is a creative method to symbolize the powerful meaning of feathers which represents honor\, trust\, strength\, wisdom and freedom.  A unique one of a kind “art” that is deeply revered and a sign of high honor from the heavens.   Ronald has won numerous awards and his feathers are displayed in the Shop of Alleghany Highlands Arts and Crafts Center\, as well as other shops throughout Virginia.
URL:https://highlandsartsandcraft.org/event/painting-on-feathers-ronald-navroski/
LOCATION:Alleghany Highands Arts and Crafts Center\, 439 E Ridgeway Street\, Clifton Forge\, VA\, 24422\, United States
CATEGORIES:Art Class
ATTACH;FMTTYPE=image/jpeg:https://highlandsartsandcraft.org/wp-content/uploads/2022/08/FullSizeR-2.jpg
GEO:37.81551;-79.825862
X-APPLE-STRUCTURED-LOCATION;VALUE=URI;X-ADDRESS=Alleghany Highands Arts and Crafts Center 439 E Ridgeway Street Clifton Forge VA 24422 United States;X-APPLE-RADIUS=500;X-TITLE=439 E Ridgeway Street:geo:-79.825862,37.81551
END:VEVENT
BEGIN:VEVENT
DTSTART;TZID=America/New_York:20221008T130000
DTEND;TZID=America/New_York:20221008T150000
DTSTAMP:20260424T101551
CREATED:20220817T192352Z
LAST-MODIFIED:20220817T192352Z
UID:10013973-1665234000-1665241200@highlandsartsandcraft.org
SUMMARY:Painting on Feathers-Ronald Navroski (Class II)
DESCRIPTION:This class will be on October 8th from 1 pm – 3 pm.  The cost is $20 and open to students as young as 8 years old and to adults. There will be a maximum of 10 so be sure to register by October 3rd. Students will learn how to paint on feathers\, and will be taking home a feather pen. All supplies will be provided.\nRonald Navroski is a self-taught artist who began his career in oil. Navroski began to be more passionate about choosing a medium with meaning.  He chose to paint on feathers.  Feather painting is a creative method to symbolize the powerful meaning of feathers which represents honor\, trust\, strength\, wisdom and freedom.  A unique one of a kind “art” that is deeply revered and a sign of high honor from the heavens.   Ronald has won numerous awards and his feathers are displayed in the Shop of Alleghany Highlands Arts and Crafts Center\, as well as other shops throughout Virginia.
URL:https://highlandsartsandcraft.org/event/painting-on-feathers-ronald-navroski-class-ii/
LOCATION:Alleghany Highands Arts and Crafts Center\, 439 E Ridgeway Street\, Clifton Forge\, VA\, 24422\, United States
CATEGORIES:Art Class
GEO:37.81551;-79.825862
X-APPLE-STRUCTURED-LOCATION;VALUE=URI;X-ADDRESS=Alleghany Highands Arts and Crafts Center 439 E Ridgeway Street Clifton Forge VA 24422 United States;X-APPLE-RADIUS=500;X-TITLE=439 E Ridgeway Street:geo:-79.825862,37.81551
END:VEVENT
BEGIN:VEVENT
DTSTART;TZID=America/New_York:20221026T110000
DTEND;TZID=America/New_York:20221026T140000
DTSTAMP:20260424T101551
CREATED:20220912T164103Z
LAST-MODIFIED:20221024T184640Z
UID:10014849-1666782000-1666792800@highlandsartsandcraft.org
SUMMARY:Alcohol Ink Creative Techniques: Jennifer Galvin
DESCRIPTION:This class introduces students to alcohol inks and all the possibilities of the inks. With the guidance of Jennifer Galvin\, we will be using alcohol ink to create a beautiful\, colorful piece of art work to take home. You don’t have to be an artist to create a masterpiece; alcohol ink is easy to work with and looks great when you’re finished! Even beginners will enjoy this workshop. If you’ve been interested in learning how to work with alcohol ink\, this workshop is for you! Jennifer will bring photo paper\, yupo paper and tiles for all participants to practice on\, so you can see how the ink works on different surfaces. We’ll start with experimenting with the inks and color\, and then learn some techniques for controlling how to make the ink do more of what you want it to do. Everyone will go home with a lovely tile fit for framing\, or your tile can be used as a trivet or coaster—perfect for a gift! Class limited to 10. \nVirginia based artist\, Jennifer Galvin\, reclaims discarded material and gives it new life—old t-shirts\, jeans\, and mat board are transformed into intricate works of art. Jennifer has been making paper since 2002 and has a degree in art from Oregon State University. Jennifer also enjoys working in alcohol ink and has been working in this medium since 2016.  Jennifer Galvin has 25+ years of experience in art instruction. Jennifer has taught art to people of all ages in printmaking\, papermaking\, alcohol ink\, and painting. Jennifer is currently on the Artists Roster at the Virginia Commission for the Arts. http://www.arts.virginia.gov/roster_Jen_Galvin.html  Jennifer’s pulp paintings have been shown regionally\, nationally\, and internationally\, and have won several awards in National Juried Exhibitions. She is a member of IAPMA (International Association of Hand Papermakers and Paper Artists)\, NAHP (North American Hand Papermakers)\, FCCA (Fredericksburg Center for the Creative Arts)\, and her work is shown locally at Alleghany Highlands Arts and Crafts Center in Clifton\, Forge.
URL:https://highlandsartsandcraft.org/event/alcohol-ink-creative-techniques-jennifer-galvin/
LOCATION:Alleghany Highands Arts and Crafts Center\, 439 E Ridgeway Street\, Clifton Forge\, VA\, 24422\, United States
CATEGORIES:Art Class
ATTACH;FMTTYPE=image/jpeg:https://highlandsartsandcraft.org/wp-content/uploads/2021/12/Coasters2-scaled-e1653593319667.jpg
GEO:37.81551;-79.825862
X-APPLE-STRUCTURED-LOCATION;VALUE=URI;X-ADDRESS=Alleghany Highands Arts and Crafts Center 439 E Ridgeway Street Clifton Forge VA 24422 United States;X-APPLE-RADIUS=500;X-TITLE=439 E Ridgeway Street:geo:-79.825862,37.81551
END:VEVENT
END:VCALENDAR