BEGIN:VCALENDAR
VERSION:2.0
PRODID:-//Alleghany Highlands Arts and Crafts Center - ECPv6.15.20//NONSGML v1.0//EN
CALSCALE:GREGORIAN
METHOD:PUBLISH
X-ORIGINAL-URL:https://highlandsartsandcraft.org
X-WR-CALDESC:Events for Alleghany Highlands Arts and Crafts Center
REFRESH-INTERVAL;VALUE=DURATION:PT1H
X-Robots-Tag:noindex
X-PUBLISHED-TTL:PT1H
BEGIN:VTIMEZONE
TZID:America/New_York
BEGIN:DAYLIGHT
TZOFFSETFROM:-0500
TZOFFSETTO:-0400
TZNAME:EDT
DTSTART:20190310T070000
END:DAYLIGHT
BEGIN:STANDARD
TZOFFSETFROM:-0400
TZOFFSETTO:-0500
TZNAME:EST
DTSTART:20191103T060000
END:STANDARD
BEGIN:DAYLIGHT
TZOFFSETFROM:-0500
TZOFFSETTO:-0400
TZNAME:EDT
DTSTART:20200308T070000
END:DAYLIGHT
BEGIN:STANDARD
TZOFFSETFROM:-0400
TZOFFSETTO:-0500
TZNAME:EST
DTSTART:20201101T060000
END:STANDARD
BEGIN:DAYLIGHT
TZOFFSETFROM:-0500
TZOFFSETTO:-0400
TZNAME:EDT
DTSTART:20210314T070000
END:DAYLIGHT
BEGIN:STANDARD
TZOFFSETFROM:-0400
TZOFFSETTO:-0500
TZNAME:EST
DTSTART:20211107T060000
END:STANDARD
END:VTIMEZONE
BEGIN:VEVENT
DTSTART;TZID=America/New_York:20201028T133000
DTEND;TZID=America/New_York:20201028T150000
DTSTAMP:20260422T093453
CREATED:20201012T155439Z
LAST-MODIFIED:20201012T155439Z
UID:10013183-1603891800-1603897200@highlandsartsandcraft.org
SUMMARY:Kid's Fall/Halloween Craft Activity
DESCRIPTION:This fun activity will be for grades K-3 on Wednesday\, October 28th from 1:30 pm to 3:00 pm and will be limited to 8 students.\n Teachers Cathy Drummer and Judy Scott will supply all materials\, and the fee is $5.  Please register by October 26th by calling the Center at 862-4447.\nMasks will be required and provided if needed.
URL:https://highlandsartsandcraft.org/event/kids-fall-halloween-craft-activity/
LOCATION:Alleghany Highands Arts and Crafts Center\, 439 E Ridgeway Street\, Clifton Forge\, VA\, 24422\, United States
CATEGORIES:Art Class
GEO:37.81551;-79.825862
X-APPLE-STRUCTURED-LOCATION;VALUE=URI;X-ADDRESS=Alleghany Highands Arts and Crafts Center 439 E Ridgeway Street Clifton Forge VA 24422 United States;X-APPLE-RADIUS=500;X-TITLE=439 E Ridgeway Street:geo:-79.825862,37.81551
END:VEVENT
END:VCALENDAR