BEGIN:VCALENDAR
VERSION:2.0
PRODID:-//Alleghany Highlands Arts and Crafts Center - ECPv6.15.20//NONSGML v1.0//EN
CALSCALE:GREGORIAN
METHOD:PUBLISH
X-ORIGINAL-URL:https://highlandsartsandcraft.org
X-WR-CALDESC:Events for Alleghany Highlands Arts and Crafts Center
REFRESH-INTERVAL;VALUE=DURATION:PT1H
X-Robots-Tag:noindex
X-PUBLISHED-TTL:PT1H
BEGIN:VTIMEZONE
TZID:America/New_York
BEGIN:DAYLIGHT
TZOFFSETFROM:-0500
TZOFFSETTO:-0400
TZNAME:EDT
DTSTART:20250309T070000
END:DAYLIGHT
BEGIN:STANDARD
TZOFFSETFROM:-0400
TZOFFSETTO:-0500
TZNAME:EST
DTSTART:20251102T060000
END:STANDARD
BEGIN:DAYLIGHT
TZOFFSETFROM:-0500
TZOFFSETTO:-0400
TZNAME:EDT
DTSTART:20260308T070000
END:DAYLIGHT
BEGIN:STANDARD
TZOFFSETFROM:-0400
TZOFFSETTO:-0500
TZNAME:EST
DTSTART:20261101T060000
END:STANDARD
BEGIN:DAYLIGHT
TZOFFSETFROM:-0500
TZOFFSETTO:-0400
TZNAME:EDT
DTSTART:20270314T070000
END:DAYLIGHT
BEGIN:STANDARD
TZOFFSETFROM:-0400
TZOFFSETTO:-0500
TZNAME:EST
DTSTART:20271107T060000
END:STANDARD
END:VTIMEZONE
BEGIN:VEVENT
DTSTART;TZID=America/New_York:20260504T100000
DTEND;TZID=America/New_York:20260504T163000
DTSTAMP:20260421T050817
CREATED:20260408T153936Z
LAST-MODIFIED:20260408T174034Z
UID:10019102-1777888800-1777912200@highlandsartsandcraft.org
SUMMARY:Annual Middle School and High School Art Show April 15 - May 8\, 2026
DESCRIPTION:See the talent of the Alleghany Highlands youth in this year’s art show for middle and high school students.\nA Reception for Students\, Parents\, and the Community will be Thursday\, April 30\, 2026\, from 4:00  to 6:00 in the Gallery. \nThe works pictured above are from the Student Art Show of 2025 \n  \n 
URL:https://highlandsartsandcraft.org/event/annual-middle-school-and-high-school-art-show-april-15-may-8-2026/2026-05-04/
LOCATION:Alleghany Highands Arts and Crafts Center\, 439 E Ridgeway Street\, Clifton Forge\, VA\, 24422\, United States
CATEGORIES:Exhibit
ATTACH;FMTTYPE=image/jpeg:https://highlandsartsandcraft.org/wp-content/uploads/2026/04/IMG_20250410_111059210.jpg
GEO:37.81551;-79.825862
X-APPLE-STRUCTURED-LOCATION;VALUE=URI;X-ADDRESS=Alleghany Highands Arts and Crafts Center 439 E Ridgeway Street Clifton Forge VA 24422 United States;X-APPLE-RADIUS=500;X-TITLE=439 E Ridgeway Street:geo:-79.825862,37.81551
END:VEVENT
BEGIN:VEVENT
DTSTART;TZID=America/New_York:20260505T100000
DTEND;TZID=America/New_York:20260505T163000
DTSTAMP:20260421T050817
CREATED:20260408T153936Z
LAST-MODIFIED:20260408T174034Z
UID:10019103-1777975200-1777998600@highlandsartsandcraft.org
SUMMARY:Annual Middle School and High School Art Show April 15 - May 8\, 2026
DESCRIPTION:See the talent of the Alleghany Highlands youth in this year’s art show for middle and high school students.\nA Reception for Students\, Parents\, and the Community will be Thursday\, April 30\, 2026\, from 4:00  to 6:00 in the Gallery. \nThe works pictured above are from the Student Art Show of 2025 \n  \n 
URL:https://highlandsartsandcraft.org/event/annual-middle-school-and-high-school-art-show-april-15-may-8-2026/2026-05-05/
LOCATION:Alleghany Highands Arts and Crafts Center\, 439 E Ridgeway Street\, Clifton Forge\, VA\, 24422\, United States
CATEGORIES:Exhibit
ATTACH;FMTTYPE=image/jpeg:https://highlandsartsandcraft.org/wp-content/uploads/2026/04/IMG_20250410_111059210.jpg
GEO:37.81551;-79.825862
X-APPLE-STRUCTURED-LOCATION;VALUE=URI;X-ADDRESS=Alleghany Highands Arts and Crafts Center 439 E Ridgeway Street Clifton Forge VA 24422 United States;X-APPLE-RADIUS=500;X-TITLE=439 E Ridgeway Street:geo:-79.825862,37.81551
END:VEVENT
BEGIN:VEVENT
DTSTART;TZID=America/New_York:20260506T100000
DTEND;TZID=America/New_York:20260506T163000
DTSTAMP:20260421T050817
CREATED:20260408T153936Z
LAST-MODIFIED:20260408T174034Z
UID:10019104-1778061600-1778085000@highlandsartsandcraft.org
SUMMARY:Annual Middle School and High School Art Show April 15 - May 8\, 2026
DESCRIPTION:See the talent of the Alleghany Highlands youth in this year’s art show for middle and high school students.\nA Reception for Students\, Parents\, and the Community will be Thursday\, April 30\, 2026\, from 4:00  to 6:00 in the Gallery. \nThe works pictured above are from the Student Art Show of 2025 \n  \n 
URL:https://highlandsartsandcraft.org/event/annual-middle-school-and-high-school-art-show-april-15-may-8-2026/2026-05-06/
LOCATION:Alleghany Highands Arts and Crafts Center\, 439 E Ridgeway Street\, Clifton Forge\, VA\, 24422\, United States
CATEGORIES:Exhibit
ATTACH;FMTTYPE=image/jpeg:https://highlandsartsandcraft.org/wp-content/uploads/2026/04/IMG_20250410_111059210.jpg
GEO:37.81551;-79.825862
X-APPLE-STRUCTURED-LOCATION;VALUE=URI;X-ADDRESS=Alleghany Highands Arts and Crafts Center 439 E Ridgeway Street Clifton Forge VA 24422 United States;X-APPLE-RADIUS=500;X-TITLE=439 E Ridgeway Street:geo:-79.825862,37.81551
END:VEVENT
BEGIN:VEVENT
DTSTART;TZID=America/New_York:20260507T100000
DTEND;TZID=America/New_York:20260507T163000
DTSTAMP:20260421T050817
CREATED:20260408T153936Z
LAST-MODIFIED:20260408T174034Z
UID:10019105-1778148000-1778171400@highlandsartsandcraft.org
SUMMARY:Annual Middle School and High School Art Show April 15 - May 8\, 2026
DESCRIPTION:See the talent of the Alleghany Highlands youth in this year’s art show for middle and high school students.\nA Reception for Students\, Parents\, and the Community will be Thursday\, April 30\, 2026\, from 4:00  to 6:00 in the Gallery. \nThe works pictured above are from the Student Art Show of 2025 \n  \n 
URL:https://highlandsartsandcraft.org/event/annual-middle-school-and-high-school-art-show-april-15-may-8-2026/2026-05-07/
LOCATION:Alleghany Highands Arts and Crafts Center\, 439 E Ridgeway Street\, Clifton Forge\, VA\, 24422\, United States
CATEGORIES:Exhibit
ATTACH;FMTTYPE=image/jpeg:https://highlandsartsandcraft.org/wp-content/uploads/2026/04/IMG_20250410_111059210.jpg
GEO:37.81551;-79.825862
X-APPLE-STRUCTURED-LOCATION;VALUE=URI;X-ADDRESS=Alleghany Highands Arts and Crafts Center 439 E Ridgeway Street Clifton Forge VA 24422 United States;X-APPLE-RADIUS=500;X-TITLE=439 E Ridgeway Street:geo:-79.825862,37.81551
END:VEVENT
BEGIN:VEVENT
DTSTART;TZID=America/New_York:20260508T100000
DTEND;TZID=America/New_York:20260508T163000
DTSTAMP:20260421T050817
CREATED:20260408T153936Z
LAST-MODIFIED:20260408T174034Z
UID:10019106-1778234400-1778257800@highlandsartsandcraft.org
SUMMARY:Annual Middle School and High School Art Show April 15 - May 8\, 2026
DESCRIPTION:See the talent of the Alleghany Highlands youth in this year’s art show for middle and high school students.\nA Reception for Students\, Parents\, and the Community will be Thursday\, April 30\, 2026\, from 4:00  to 6:00 in the Gallery. \nThe works pictured above are from the Student Art Show of 2025 \n  \n 
URL:https://highlandsartsandcraft.org/event/annual-middle-school-and-high-school-art-show-april-15-may-8-2026/2026-05-08/
LOCATION:Alleghany Highands Arts and Crafts Center\, 439 E Ridgeway Street\, Clifton Forge\, VA\, 24422\, United States
CATEGORIES:Exhibit
ATTACH;FMTTYPE=image/jpeg:https://highlandsartsandcraft.org/wp-content/uploads/2026/04/IMG_20250410_111059210.jpg
GEO:37.81551;-79.825862
X-APPLE-STRUCTURED-LOCATION;VALUE=URI;X-ADDRESS=Alleghany Highands Arts and Crafts Center 439 E Ridgeway Street Clifton Forge VA 24422 United States;X-APPLE-RADIUS=500;X-TITLE=439 E Ridgeway Street:geo:-79.825862,37.81551
END:VEVENT
END:VCALENDAR